BEGIN:VCALENDAR
VERSION:2.0
PRODID:-//wp-events-plugin.com//7.2.3.1//EN
BEGIN:VEVENT
UID:6@schuetzenverein-rixbeck.com
DTSTART;TZID=Europe/Berlin:20230128T193000
DTEND;TZID=Europe/Berlin:20230128T231500
DTSTAMP:20221205T185948Z
URL:https://schuetzenverein-rixbeck.com/events/winterball-des-schuetzenver
 eins-mantinghausen-im-heimathaus-mantinghausen/
SUMMARY:Winterball des Schützenvereins Mantinghausen
DESCRIPTION:
CATEGORIES:Allgemein
LOCATION:Heimathaus Mantinghausen\, Lippestraße 22\, Salzkotten\, NRW\, 33
 154\, Deutschland
X-APPLE-STRUCTURED-LOCATION;VALUE=URI;X-ADDRESS=Lippestraße 22\, Salzkotte
 n\, NRW\, 33154\, Deutschland;X-APPLE-RADIUS=100;X-TITLE=Heimathaus Mantin
 ghausen:geo:0,0
END:VEVENT
BEGIN:VTIMEZONE
TZID:Europe/Berlin
X-LIC-LOCATION:Europe/Berlin
BEGIN:STANDARD
DTSTART:20221030T020000
TZOFFSETFROM:+0200
TZOFFSETTO:+0100
TZNAME:CET
END:STANDARD
END:VTIMEZONE
END:VCALENDAR