BEGIN:VCALENDAR
VERSION:2.0
PRODID:-//wp-events-plugin.com//7.2.3.1//EN
BEGIN:VEVENT
UID:33@schuetzenverein-rixbeck.com
DTSTART:20230702T230000Z
DTEND:20230702T230000Z
DTSTAMP:20230227T183704Z
URL:https://schuetzenverein-rixbeck.com/events/schuetzenfest-in-hoerste-3/
SUMMARY:Schützenfest in Hörste
DESCRIPTION:
CATEGORIES:Allgemein
END:VEVENT
END:VCALENDAR