BEGIN:VCALENDAR
VERSION:2.0
PRODID:-//wp-events-plugin.com//7.2.3.1//EN
BEGIN:VEVENT
UID:144@schuetzenverein-rixbeck.com
DTSTART:20250830T230000Z
DTEND:20250830T230000Z
DTSTAMP:20250526T115359Z
URL:https://schuetzenverein-rixbeck.com/events/schuetzenfest-in-boekenfoer
 de-7/
SUMMARY:Schützenfest in Bökenförde
DESCRIPTION:
CATEGORIES:Allgemein
END:VEVENT
END:VCALENDAR