BEGIN:VCALENDAR
VERSION:2.0
PRODID:-//wp-events-plugin.com//7.2.3.1//EN
BEGIN:VEVENT
UID:136@schuetzenverein-rixbeck.com
DTSTART:20250829T230000Z
DTEND:20250829T230000Z
DTSTAMP:20250522T153736Z
URL:https://schuetzenverein-rixbeck.com/events/schuetzenfest-in-boekenfoer
 de-5/
SUMMARY:Schützenfest in Bökenförde
DESCRIPTION:
CATEGORIES:Allgemein
END:VEVENT
END:VCALENDAR