BEGIN:VCALENDAR
VERSION:2.0
PRODID:-//wp-events-plugin.com//7.2.3.1//EN
BEGIN:VEVENT
UID:35@schuetzenverein-rixbeck.com
DTSTART:20230729T230000Z
DTEND:20230729T230000Z
DTSTAMP:20230614T155316Z
URL:https://schuetzenverein-rixbeck.com/events/schuetzenfest-dedinghausen-
 150-jaehriges-jubilaeum/
SUMMARY:Schützenfest Dedinghausen 150.-jähriges Jubiläum (Treffpunkt Gas
 thof Koch um 12:15 Uhr oder Haslei 39 in Dedinghausen um 12:45 Uhr)
DESCRIPTION:
CATEGORIES:Allgemein
END:VEVENT
END:VCALENDAR