BEGIN:VCALENDAR
VERSION:2.0
PRODID:-//wp-events-plugin.com//7.2.3.1//EN
BEGIN:VEVENT
UID:135@schuetzenverein-rixbeck.com
DTSTART:20250802T181500Z
DTEND:20250802T224500Z
DTSTAMP:20250623T152938Z
URL:https://schuetzenverein-rixbeck.com/events/gastbesuch-des-schuetzenfes
 tes-des-suedl-schuetzenbundes/
SUMMARY:Gastbesuch des Schützenfestes des Südl. Schützenbundes
DESCRIPTION:Abmarsch ab Hans-Martin Jungemann um 19:15 Uhr
CATEGORIES:Allgemein
END:VEVENT
END:VCALENDAR