BEGIN:VCALENDAR
VERSION:2.0
PRODID:-//wp-events-plugin.com//7.2.3.1//EN
BEGIN:VEVENT
UID:88@schuetzenverein-rixbeck.com
DTSTART:20240728T180000Z
DTEND:20240728T223000Z
DTSTAMP:20240703T051757Z
URL:https://schuetzenverein-rixbeck.com/events/gastbesuch-des-schuetzenfes
 t-in-dedinghausen/
SUMMARY:Gastbesuch des Schützenfest in Dedinghausen um 19:00 Treffpunkt Ga
 sthof Koch
DESCRIPTION:
CATEGORIES:Allgemein
END:VEVENT
END:VCALENDAR