BEGIN:VCALENDAR
VERSION:2.0
PRODID:-//wp-events-plugin.com//7.2.3.1//EN
BEGIN:VEVENT
UID:28@schuetzenverein-rixbeck.com
DTSTART:20230709T090000Z
DTEND:20230709T131500Z
DTSTAMP:20230614T155113Z
URL:https://schuetzenverein-rixbeck.com/events/festabrechnung-im-fz/
SUMMARY:Festabrechnung im FZ
DESCRIPTION:
CATEGORIES:Allgemein
LOCATION:Bürgering Rixbeck\, Oberdorf 1\, Rixbeck\, NRW\, 59558\, Deutschl
 and
X-APPLE-STRUCTURED-LOCATION;VALUE=URI;X-ADDRESS=Oberdorf 1\, Rixbeck\, NRW\
 , 59558\, Deutschland;X-APPLE-RADIUS=100;X-TITLE=Bürgering Rixbeck:geo:0,
 0
END:VEVENT
END:VCALENDAR