BEGIN:VCALENDAR
VERSION:2.0
PRODID:-//wp-events-plugin.com//7.2.3.1//EN
BEGIN:VEVENT
UID:142@schuetzenverein-rixbeck.com
DTSTART:20251017T230000Z
DTEND:20251017T230000Z
DTSTAMP:20250921T085807Z
URL:https://schuetzenverein-rixbeck.com/events/bundespokalschiessen-in-dor
 tmund-3/
SUMMARY:45. Bundespokalschießen 2025 des SSB im LLZ Dortmund
DESCRIPTION:
CATEGORIES:Allgemein
END:VEVENT
END:VCALENDAR